BEGIN:VCALENDAR
VERSION:2.0
PRODID:-//Squarespace Inc/Squarespace 6//v6//EN
BEGIN:VEVENT
UID:5bfd3f5703ce6431a6fd90a9@squarespace.com
DTSTAMP:20181127T130801Z
DTSTART:20181201T020000Z
DTEND:20181201T023000Z
SUMMARY:12.30 - 1.00PM OPEN HOME - 10 Finniss Crt\, NORTH ADELAIDE
GEO:-34.910669;138.60268
LOCATION:110 Finniss Court\, North Adelaide\, SA\, 5006\, Australia
END:VEVENT
END:VCALENDAR
