BEGIN:VCALENDAR
VERSION:2.0
PRODID:-//Squarespace Inc/Squarespace 6//v6//EN
BEGIN:VEVENT
UID:5bfd3ffab8a045915603832d@squarespace.com
DTSTAMP:20181127T133435Z
DTSTART:20181201T000000Z
DTEND:20181201T003000Z
SUMMARY:10.30AM - 11.00AM OPEN HOME - 257 Carrington St\, ADELAIDE
GEO:40.720756;-74.000761
LOCATION:257 Carrington Street\, Adelaide\, SA\, 5000\, Australia
END:VEVENT
END:VCALENDAR
