BEGIN:VCALENDAR
VERSION:2.0
PRODID:-//Squarespace Inc/Squarespace 6//v6//EN
BEGIN:VEVENT
UID:5bfd422e0ebbe8589982f861@squarespace.com
DTSTAMP:20181127T131123Z
DTSTART:20181201T030000Z
DTEND:20181201T033000Z
SUMMARY:1.30 - 2.00PM OPEN HOME - 37/103 Strangways Tce\, NORTH ADELAIDE
GEO:-34.910605;138.587316
LOCATION:37/103 Strangways Terrace\, North Adelaide\, SA\, 5006\, Australia
END:VEVENT
END:VCALENDAR
