BEGIN:VCALENDAR
VERSION:2.0
PRODID:-//Squarespace Inc/Squarespace 6//v6//EN
BEGIN:VEVENT
UID:5bfd40c44d7a9c537d7783ec@squarespace.com
DTSTAMP:20181127T131321Z
DTSTART:20181201T030000Z
DTEND:20181201T033000Z
SUMMARY:1.30 - 2.00PM OPEN HOME - 5 Pensford Crt\, CAMDEN PARK
GEO:-34.963149;138.540982
LOCATION:5 Pensford Court\, Camden Park\, SA\, 5038\, Australia
END:VEVENT
END:VCALENDAR
