BEGIN:VCALENDAR
VERSION:2.0
PRODID:-//Squarespace Inc/Squarespace 6//v6//EN
BEGIN:VEVENT
UID:5bfd4291aa4a9962d6eaba70@squarespace.com
DTSTAMP:20181127T131252Z
DTSTART:20181201T040000Z
DTEND:20181201T043000Z
SUMMARY:2.30 - 3.00PM OPEN HOME - 1/8 Grenache Ave\, MODBURY
GEO:-34.837162;138.679996
LOCATION:8 Grenache Avenue\, Modbury\, SA\, 5092\, Australia
END:VEVENT
END:VCALENDAR
