BEGIN:VCALENDAR
VERSION:2.0
PRODID:-//Squarespace Inc/Squarespace 6//v6//EN
BEGIN:VEVENT
UID:5bfd4313575d1f7b46fe7695@squarespace.com
DTSTAMP:20181127T131507Z
DTSTART:20181201T040000Z
DTEND:20181201T043000Z
SUMMARY:2.30 - 3.00PM OPEN HOME - 31 Franklin Ave\, FLINDERS PARK
GEO:-34.907377;138.547994
LOCATION:31 Franklin Avenue\, Flinders Park\, SA\, 5025\, Australia
END:VEVENT
END:VCALENDAR
