BEGIN:VCALENDAR
VERSION:2.0
PRODID:-//Squarespace Inc/Squarespace 6//v6//EN
BEGIN:VEVENT
UID:5bfd3d01758d46ac485ebe87@squarespace.com
DTSTAMP:20181127T130009Z
DTSTART:20181201T003000Z
DTEND:20181201T013000Z
SUMMARY:11.00AM AUCTION - 257 Carrington St\, ADELAIDE
GEO:-34.931252;138.609784
LOCATION:257 Carrington Street\, Adelaide\, SA\, 5000\, Australia
END:VEVENT
END:VCALENDAR
