BEGIN:VCALENDAR
VERSION:2.0
PRODID:-//Squarespace Inc/Squarespace 6//v6//EN
BEGIN:VEVENT
UID:5bfd437670a6ad6baf567c76@squarespace.com
DTSTAMP:20181127T131637Z
DTSTART:20181202T013000Z
DTEND:20181202T020000Z
SUMMARY:12.00 - 12.30PM OPEN HOME - 581 South Rd\, EVERARD PARK
GEO:-34.954178;138.572303
LOCATION:581 South Road\, Everard Park\, SA\, 5035\, Australia
END:VEVENT
END:VCALENDAR
